BEGIN:VCALENDAR
VERSION:2.0
PRODID:-//Margaret McMullan - ECPv6.0.8//NONSGML v1.0//EN
CALSCALE:GREGORIAN
METHOD:PUBLISH
X-WR-CALNAME:Margaret McMullan
X-ORIGINAL-URL:https://margaretmcmullan.com
X-WR-CALDESC:Events for Margaret McMullan
REFRESH-INTERVAL;VALUE=DURATION:PT1H
X-Robots-Tag:noindex
X-PUBLISHED-TTL:PT1H
BEGIN:VTIMEZONE
TZID:America/New_York
BEGIN:DAYLIGHT
TZOFFSETFROM:-0500
TZOFFSETTO:-0400
TZNAME:EDT
DTSTART:20190310T070000
END:DAYLIGHT
BEGIN:STANDARD
TZOFFSETFROM:-0400
TZOFFSETTO:-0500
TZNAME:EST
DTSTART:20191103T060000
END:STANDARD
BEGIN:DAYLIGHT
TZOFFSETFROM:-0500
TZOFFSETTO:-0400
TZNAME:EDT
DTSTART:20200308T070000
END:DAYLIGHT
BEGIN:STANDARD
TZOFFSETFROM:-0400
TZOFFSETTO:-0500
TZNAME:EST
DTSTART:20201101T060000
END:STANDARD
TZID:UTC
BEGIN:STANDARD
TZOFFSETFROM:+0000
TZOFFSETTO:+0000
TZNAME:UTC
DTSTART:20190101T000000
END:STANDARD
END:VTIMEZONE
BEGIN:VEVENT
DTSTART;TZID=America/New_York:20200403T083000
DTEND;TZID=America/New_York:20200403T160000
DTSTAMP:20260423T092655
CREATED:20200210T213244Z
LAST-MODIFIED:20200210T213244Z
UID:1392-1585902600-1585929600@margaretmcmullan.com
SUMMARY:Classroom Visits
DESCRIPTION:
URL:https://margaretmcmullan.com/event/classroom-visits/
LOCATION:Lake Forest High School\, Lake Forest\, IL\, United States
END:VEVENT
BEGIN:VEVENT
DTSTART;TZID=America/New_York:20200402T110000
DTEND;TZID=America/New_York:20200402T114500
DTSTAMP:20260423T092655
CREATED:20200210T212847Z
LAST-MODIFIED:20200210T212847Z
UID:1388-1585825200-1585827900@margaretmcmullan.com
SUMMARY:Talk about WHERE THE ANGELS LIVED
DESCRIPTION:
URL:https://margaretmcmullan.com/event/talk-about-where-the-angels-lived/
LOCATION:Lake Bluff Middle School\, Lake Bluff\, IL\, United States
END:VEVENT
BEGIN:VEVENT
DTSTART;TZID=America/New_York:20200323T170000
DTEND;TZID=America/New_York:20200323T190000
DTSTAMP:20260423T092655
CREATED:20190825T184808Z
LAST-MODIFIED:20191121T215425Z
UID:1204-1584982800-1584990000@margaretmcmullan.com
SUMMARY:Book talk and signing\, WHERE THE ANGELS LIVED
DESCRIPTION:
URL:https://margaretmcmullan.com/event/book-talk-and-signing-where-the-angels-lived-10/
LOCATION:Pittsburgh Theological Seminary\, Pittsburgh\, PA\, United States
END:VEVENT
BEGIN:VEVENT
DTSTART;TZID=America/New_York:20200321T160000
DTEND;TZID=America/New_York:20200321T170000
DTSTAMP:20260423T092655
CREATED:20190825T184355Z
LAST-MODIFIED:20190825T184355Z
UID:1200-1584806400-1584810000@margaretmcmullan.com
SUMMARY:Book talk and signing\, WHERE THE ANGELS LIVED
DESCRIPTION:
URL:https://margaretmcmullan.com/event/book-talk-and-signing-where-the-angels-lived-9/
LOCATION:Narberth Bookshop\, Narberth\, PA\, United States
END:VEVENT
BEGIN:VEVENT
DTSTART;TZID=America/New_York:20200320T160000
DTEND;TZID=America/New_York:20200320T180000
DTSTAMP:20260423T092655
CREATED:20200210T214046Z
LAST-MODIFIED:20200210T214046Z
UID:1397-1584720000-1584727200@margaretmcmullan.com
SUMMARY:Reading and Signing WHERE THE ANGELS LIVED
DESCRIPTION:
URL:https://margaretmcmullan.com/event/reading-and-signing-where-the-angels-lived-11/
LOCATION:The Caffeinated Bookworm\, 245 Centerville Road\, Lancaster\, Pennsylvania\, 17603\, United States
END:VEVENT
BEGIN:VEVENT
DTSTART;TZID=America/New_York:20200319T080000
DTEND;TZID=America/New_York:20200319T170000
DTSTAMP:20260423T092655
CREATED:20190507T181914Z
LAST-MODIFIED:20190507T181914Z
UID:1014-1584604800-1584637200@margaretmcmullan.com
SUMMARY:Reading and Signing WHERE THE ANGELS LIVED
DESCRIPTION:
URL:https://margaretmcmullan.com/event/reading-and-signing-where-the-angels-lived-9/
LOCATION:Penn State\, State College\, PA\, United States
END:VEVENT
BEGIN:VEVENT
DTSTART;VALUE=DATE:20200318
DTEND;VALUE=DATE:20200320
DTSTAMP:20260423T092655
CREATED:20190412T012355Z
LAST-MODIFIED:20190424T000311Z
UID:964-1584489600-1584662399@margaretmcmullan.com
SUMMARY:Reading and Book Signing Where the Angels Lived
DESCRIPTION:
URL:https://margaretmcmullan.com/event/reading-and-book-signing-where-the-angels-lived/
LOCATION:University of Pittsburgh-Bradford\, Bradford\, PA\, United States
END:VEVENT
BEGIN:VEVENT
DTSTART;TZID=America/New_York:20200314T080000
DTEND;TZID=America/New_York:20200314T170000
DTSTAMP:20260423T092655
CREATED:20191121T220506Z
LAST-MODIFIED:20191121T220506Z
UID:1301-1584172800-1584205200@margaretmcmullan.com
SUMMARY:Featured speaker: Jambalaya Writers' Conference
DESCRIPTION:
URL:https://margaretmcmullan.com/event/featured-speaker-jambalaya-writers-conference/
END:VEVENT
BEGIN:VEVENT
DTSTART;TZID=America/New_York:20200307T090000
DTEND;TZID=America/New_York:20200310T103000
DTSTAMP:20260423T092655
CREATED:20190801T155231Z
LAST-MODIFIED:20191121T214551Z
UID:1170-1583571600-1583836200@margaretmcmullan.com
SUMMARY:AWP Conference
DESCRIPTION:
URL:https://margaretmcmullan.com/event/awp-conference/
LOCATION:Henry B. González Convention Center\, Room 210B\, Henry B. González Convention Center\, Meeting Room Level\, San Antonio\, TX\, United States
END:VEVENT
BEGIN:VEVENT
DTSTART;TZID=UTC:20200226T190000
DTEND;TZID=UTC:20200226T203000
DTSTAMP:20260423T092655
CREATED:20190226T204305Z
LAST-MODIFIED:20190226T204305Z
UID:872-1582743600-1582749000@margaretmcmullan.com
SUMMARY:Hugh C. Hyde Living Writers Series\, Reading and Q&A\, Where the Angels Lived
DESCRIPTION:
URL:https://margaretmcmullan.com/event/hugh-c-hyde-living-writers-series-reading-and-qa-where-the-angels-lived/
LOCATION:San Diego State University\, San Diego\, United States
END:VEVENT
BEGIN:VEVENT
DTSTART;TZID=America/New_York:20200215T080000
DTEND;TZID=America/New_York:20200215T170000
DTSTAMP:20260423T092655
CREATED:20191121T215236Z
LAST-MODIFIED:20191121T215236Z
UID:1293-1581753600-1581786000@margaretmcmullan.com
SUMMARY:Featured Speaker\, Writers and Readers Symposium
DESCRIPTION:
URL:https://margaretmcmullan.com/event/featured-speaker-writers-and-readers-symposium/
LOCATION:Conundrum Books\, 11917 Ferdinand St\, St. Francisville\, LA\, United States
END:VEVENT
BEGIN:VEVENT
DTSTART;TZID=America/New_York:20200205T120000
DTEND;TZID=America/New_York:20200205T133000
DTSTAMP:20260423T092655
CREATED:20190607T132845Z
LAST-MODIFIED:20190607T132845Z
UID:1047-1580904000-1580909400@margaretmcmullan.com
SUMMARY:Book Discussion\, WHERE THE ANGELS LIVED
DESCRIPTION:
URL:https://margaretmcmullan.com/event/book-discussion-where-the-angels-lived-2/
LOCATION:Private Home\, Pass Christian\, Mississippi\, 39571
END:VEVENT
BEGIN:VEVENT
DTSTART;TZID=America/New_York:20200119T090000
DTEND;TZID=America/New_York:20200119T100000
DTSTAMP:20260423T092655
CREATED:20191121T214106Z
LAST-MODIFIED:20191121T214106Z
UID:1289-1579424400-1579428000@margaretmcmullan.com
SUMMARY:Book Chat: WHERE THE ANGELS LIVED
DESCRIPTION:
URL:https://margaretmcmullan.com/event/book-chat-where-the-angels-lived-2/
LOCATION:Congregation Beth Israel Ner Tamid\, Glendale\, WI\, United States
END:VEVENT
BEGIN:VEVENT
DTSTART;TZID=America/New_York:20200114T180000
DTEND;TZID=America/New_York:20200114T190000
DTSTAMP:20260423T092655
CREATED:20191020T212845Z
LAST-MODIFIED:20191121T213406Z
UID:1254-1579024800-1579028400@margaretmcmullan.com
SUMMARY:Memoir Writing Panel
DESCRIPTION:
URL:https://margaretmcmullan.com/event/memoir-writing-panel/
LOCATION:Harold Washington Library\, Chicago\, IL\, United States
END:VEVENT
BEGIN:VEVENT
DTSTART;TZID=America/New_York:20200110T140000
DTEND;TZID=America/New_York:20200110T150000
DTSTAMP:20260423T092655
CREATED:20191121T212824Z
LAST-MODIFIED:20191121T212824Z
UID:1285-1578664800-1578668400@margaretmcmullan.com
SUMMARY:Book Chat: WHERE THE ANGELS LIVED
DESCRIPTION:
URL:https://margaretmcmullan.com/event/book-chat-where-the-angels-lived/
LOCATION:John Samual Land Building\, 1535 State Street\, New Orleans\, United States
END:VEVENT
BEGIN:VEVENT
DTSTART;TZID=America/New_York:20200105T100000
DTEND;TZID=America/New_York:20200105T113000
DTSTAMP:20260423T092655
CREATED:20190920T164028Z
LAST-MODIFIED:20191231T220258Z
UID:1235-1578218400-1578223800@margaretmcmullan.com
SUMMARY:Converse College\, MFA Visiting Writer\, 2020 January Residency
DESCRIPTION:
URL:https://margaretmcmullan.com/event/craft-lecture/
LOCATION:Converse College\, Spartanburg\, SC\, United States
END:VEVENT
BEGIN:VEVENT
DTSTART;TZID=America/New_York:20200104T200000
DTEND;TZID=America/New_York:20200104T210000
DTSTAMP:20260423T092655
CREATED:20190920T163820Z
LAST-MODIFIED:20190920T163820Z
UID:1231-1578168000-1578171600@margaretmcmullan.com
SUMMARY:Reading
DESCRIPTION:
URL:https://margaretmcmullan.com/event/reading/
LOCATION:Converse College\, Spartanburg\, SC\, United States
END:VEVENT
BEGIN:VEVENT
DTSTART;TZID=America/New_York:20191212T150000
DTEND;TZID=America/New_York:20191212T170000
DTSTAMP:20260423T092655
CREATED:20190907T063348Z
LAST-MODIFIED:20191121T212210Z
UID:1220-1576162800-1576170000@margaretmcmullan.com
SUMMARY:Book Chat: Writing the Memoir
DESCRIPTION:
URL:https://margaretmcmullan.com/event/book-chat-writing-the-memoir/
LOCATION:Rehoboth Public Library\, Rehoboth Beach\, DE\, United States
END:VEVENT
BEGIN:VEVENT
DTSTART;TZID=America/New_York:20191123T130000
DTEND;TZID=America/New_York:20191123T143000
DTSTAMP:20260423T092655
CREATED:20190429T222208Z
LAST-MODIFIED:20191121T211946Z
UID:992-1574514000-1574519400@margaretmcmullan.com
SUMMARY:Talk about Memoir and WHERE THE ANGELS LIVED
DESCRIPTION:
URL:https://margaretmcmullan.com/event/book-talk-about-where-the-angels-lived-2/
LOCATION:Homegrown Literary Arts Festival\, Bay St. Louis\, MS\, United States
END:VEVENT
BEGIN:VEVENT
DTSTART;TZID=America/New_York:20191113T190000
DTEND;TZID=America/New_York:20191113T203000
DTSTAMP:20260423T092655
CREATED:20190821T155455Z
LAST-MODIFIED:20190821T155455Z
UID:1191-1573671600-1573677000@margaretmcmullan.com
SUMMARY:Reading and Discussion\, WHERE THE ANGELS LIVED
DESCRIPTION:
URL:https://margaretmcmullan.com/event/reading-and-discussion-where-the-angels-lived/
LOCATION:Barclay\, 4940 East End Ave\, Chicago\, IL\, 60615\, United States
END:VEVENT
BEGIN:VEVENT
DTSTART;TZID=America/New_York:20191112T163000
DTEND;TZID=America/New_York:20191112T173000
DTSTAMP:20260423T092655
CREATED:20190704T132153Z
LAST-MODIFIED:20190704T132345Z
UID:1107-1573576200-1573579800@margaretmcmullan.com
SUMMARY:Book chat\, HOW I FOUND THE STRONG\, SOURCES OF LIGHT\, WHERE THE ANGELS LIVED
DESCRIPTION:
URL:https://margaretmcmullan.com/event/book-chat-how-i-found-the-strong-sources-of-light-where-the-angels-lived/
LOCATION:Kids Ink Book Store\, Indianapolis\, IN\, United States
END:VEVENT
BEGIN:VEVENT
DTSTART;TZID=America/New_York:20191112T110000
DTEND;TZID=America/New_York:20191112T120000
DTSTAMP:20260423T092655
CREATED:20190715T160820Z
LAST-MODIFIED:20190715T160820Z
UID:1137-1573556400-1573560000@margaretmcmullan.com
SUMMARY:Classroom visit at Butler University
DESCRIPTION:
URL:https://margaretmcmullan.com/event/classroom-visit-at-butler-university/
LOCATION:Butler University\, Indinapolis\, IN\, United States
END:VEVENT
BEGIN:VEVENT
DTSTART;TZID=America/New_York:20191111T180000
DTEND;TZID=America/New_York:20191111T190000
DTSTAMP:20260423T092655
CREATED:20190515T161133Z
LAST-MODIFIED:20190515T161133Z
UID:1027-1573495200-1573498800@margaretmcmullan.com
SUMMARY:Book Talk and Signing for WHERE THE ANGELS LIVED
DESCRIPTION:
URL:https://margaretmcmullan.com/event/book-talk-and-signing-for-where-the-angels-lived-4/
LOCATION:Marion Public Library\, Marion\, IN\, United States
END:VEVENT
BEGIN:VEVENT
DTSTART;TZID=UTC:20191110T170000
DTEND;TZID=UTC:20191110T180000
DTSTAMP:20260423T092655
CREATED:20190101T023755Z
LAST-MODIFIED:20190719T173830Z
UID:743-1573405200-1573408800@margaretmcmullan.com
SUMMARY:Reading & Signing\, WHERE THE ANGELS LIVED
DESCRIPTION:
URL:https://margaretmcmullan.com/event/reading-indiana-writers-center-indianapolis-indiana/
LOCATION:Indy Reads Books\, Indianapolis\, IN
END:VEVENT
BEGIN:VEVENT
DTSTART;TZID=UTC:20191110T130000
DTEND;TZID=UTC:20191110T160000
DTSTAMP:20260423T092655
CREATED:20190101T023609Z
LAST-MODIFIED:20190719T173515Z
UID:741-1573390800-1573401600@margaretmcmullan.com
SUMMARY:Memoir Writing Workshop\, Indiana Writers Center\, Indianapolis\, Indiana
DESCRIPTION:
URL:https://margaretmcmullan.com/event/memoir-writing-workshop-indiana-writers-center-indianapolis-indiana/
END:VEVENT
BEGIN:VEVENT
DTSTART;TZID=UTC:20191109T190000
DTEND;TZID=UTC:20191109T200000
DTSTAMP:20260423T092655
CREATED:20190313T205348Z
LAST-MODIFIED:20191008T164410Z
UID:904-1573326000-1573329600@margaretmcmullan.com
SUMMARY:The Power of Words: WHERE THE ANGELS LIVED
DESCRIPTION:
URL:https://margaretmcmullan.com/event/where-the-angels-lived-the-power-of-words/
LOCATION:Buskirk-Chumley Theater\, 114 East Kirkwood Avenue\, Bloomington\, IN\, United States
END:VEVENT
BEGIN:VEVENT
DTSTART;VALUE=DATE:20191108
DTEND;VALUE=DATE:20191110
DTSTAMP:20260423T092655
CREATED:20181106T222627Z
LAST-MODIFIED:20190408T201419Z
UID:732-1573171200-1573343999@margaretmcmullan.com
SUMMARY:The Power of Words\, WHERE THE ANGELS LIVED and SOURCES OF LIGHT\, Bloomington\, Indiana
DESCRIPTION:
URL:https://margaretmcmullan.com/event/the-power-of-words-bloomington-indiana/
END:VEVENT
BEGIN:VEVENT
DTSTART;VALUE=DATE:20191107
DTEND;VALUE=DATE:20191108
DTSTAMP:20260423T092655
CREATED:20190719T152901Z
LAST-MODIFIED:20190719T152901Z
UID:1142-1573084800-1573171199@margaretmcmullan.com
SUMMARY:Class Visits\, University of Evansville
DESCRIPTION:
URL:https://margaretmcmullan.com/event/class-visits-university-of-evansville/
LOCATION:University of Evansville\, 1800 Lincoln Drive\, Evansville\, IN\, 47722\, United States
END:VEVENT
BEGIN:VEVENT
DTSTART;TZID=UTC:20191106T173000
DTEND;TZID=UTC:20191106T183000
DTSTAMP:20260423T092655
CREATED:20190101T022939Z
LAST-MODIFIED:20190707T172425Z
UID:738-1573061400-1573065000@margaretmcmullan.com
SUMMARY:Reading and Book Signing\, WHERE THE ANGELS LIVED
DESCRIPTION:
URL:https://margaretmcmullan.com/event/university-of-evansville-reading-evansville-indiana/
LOCATION:University of Evansville\, 1800 Lincoln Drive\, Evansville\, IN\, 47722\, United States
END:VEVENT
BEGIN:VEVENT
DTSTART;TZID=America/New_York:20191106T110000
DTEND;TZID=America/New_York:20191106T130000
DTSTAMP:20260423T092655
CREATED:20190802T153517Z
LAST-MODIFIED:20190802T153517Z
UID:1175-1573038000-1573045200@margaretmcmullan.com
SUMMARY:Writing Class Visits
DESCRIPTION:
URL:https://margaretmcmullan.com/event/writing-class-visits/
LOCATION:University of Evansville\, 1800 Lincoln Drive\, Evansville\, IN\, 47722\, United States
END:VEVENT
END:VCALENDAR