BEGIN:VCALENDAR
VERSION:2.0
PRODID:-//Margaret McMullan - ECPv6.0.8//NONSGML v1.0//EN
CALSCALE:GREGORIAN
METHOD:PUBLISH
X-ORIGINAL-URL:https://margaretmcmullan.com
X-WR-CALDESC:Events for Margaret McMullan
REFRESH-INTERVAL;VALUE=DURATION:PT1H
X-Robots-Tag:noindex
X-PUBLISHED-TTL:PT1H
BEGIN:VTIMEZONE
TZID:America/New_York
BEGIN:DAYLIGHT
TZOFFSETFROM:-0500
TZOFFSETTO:-0400
TZNAME:EDT
DTSTART:20200308T070000
END:DAYLIGHT
BEGIN:STANDARD
TZOFFSETFROM:-0400
TZOFFSETTO:-0500
TZNAME:EST
DTSTART:20201101T060000
END:STANDARD
BEGIN:DAYLIGHT
TZOFFSETFROM:-0500
TZOFFSETTO:-0400
TZNAME:EDT
DTSTART:20210314T070000
END:DAYLIGHT
BEGIN:STANDARD
TZOFFSETFROM:-0400
TZOFFSETTO:-0500
TZNAME:EST
DTSTART:20211107T060000
END:STANDARD
BEGIN:DAYLIGHT
TZOFFSETFROM:-0500
TZOFFSETTO:-0400
TZNAME:EDT
DTSTART:20220313T070000
END:DAYLIGHT
BEGIN:STANDARD
TZOFFSETFROM:-0400
TZOFFSETTO:-0500
TZNAME:EST
DTSTART:20221106T060000
END:STANDARD
BEGIN:DAYLIGHT
TZOFFSETFROM:-0500
TZOFFSETTO:-0400
TZNAME:EDT
DTSTART:20230312T070000
END:DAYLIGHT
BEGIN:STANDARD
TZOFFSETFROM:-0400
TZOFFSETTO:-0500
TZNAME:EST
DTSTART:20231105T060000
END:STANDARD
BEGIN:DAYLIGHT
TZOFFSETFROM:-0500
TZOFFSETTO:-0400
TZNAME:EDT
DTSTART:20240310T070000
END:DAYLIGHT
BEGIN:STANDARD
TZOFFSETFROM:-0400
TZOFFSETTO:-0500
TZNAME:EST
DTSTART:20241103T060000
END:STANDARD
END:VTIMEZONE
BEGIN:VEVENT
DTSTART;TZID=America/New_York:20241015T120000
DTEND;TZID=America/New_York:20241015T130000
DTSTAMP:20260423T044130
CREATED:20240918T153522Z
LAST-MODIFIED:20240918T153522Z
UID:1754-1728993600-1728997200@margaretmcmullan.com
SUMMARY:Human Rights Discussion: Where the Angels Lived
DESCRIPTION:
URL:https://margaretmcmullan.com/event/human-rights-discussion-where-the-angels-lived/
LOCATION:Streaming on Prince George’s County (Maryland) Office of Human Rights Website
END:VEVENT
BEGIN:VEVENT
DTSTART;TZID=America/New_York:20240914T143000
DTEND;TZID=America/New_York:20240914T153000
DTSTAMP:20260423T044130
CREATED:20240918T151845Z
LAST-MODIFIED:20240918T151845Z
UID:1748-1726324200-1726327800@margaretmcmullan.com
SUMMARY:Conversation with Erik Larson
DESCRIPTION:
URL:https://margaretmcmullan.com/event/conversation-with-erik-larson/
LOCATION:Mississippi Book Festival\, Jackson\, MS\, United States
END:VEVENT
BEGIN:VEVENT
DTSTART;TZID=America/New_York:20231104T080000
DTEND;TZID=America/New_York:20231104T170000
DTSTAMP:20260423T044130
CREATED:20230928T060032Z
LAST-MODIFIED:20230928T164622Z
UID:1728-1699084800-1699117200@margaretmcmullan.com
SUMMARY:Conversation with Jesmyn Ward
DESCRIPTION:
URL:https://margaretmcmullan.com/event/conversation-with-jesmyn-ward/
LOCATION:Millsaps College\, Jackson\, MS
END:VEVENT
BEGIN:VEVENT
DTSTART;TZID=America/New_York:20231102T080000
DTEND;TZID=America/New_York:20231102T170000
DTSTAMP:20260423T044130
CREATED:20230928T164232Z
LAST-MODIFIED:20230928T164232Z
UID:1724-1698912000-1698944400@margaretmcmullan.com
SUMMARY:One Book One Pass Event with Kiese Laymon
DESCRIPTION:
URL:https://margaretmcmullan.com/event/one-book-one-pass-event-with-kiese-laymon/
LOCATION:Randolph Center\, Pass Christian\, Mississippi\, Pass Christian\, MS\, 39571\, United States
END:VEVENT
BEGIN:VEVENT
DTSTART;TZID=America/New_York:20231025T180000
DTEND;TZID=America/New_York:20231025T190000
DTSTAMP:20260423T044130
CREATED:20230928T163832Z
LAST-MODIFIED:20230928T163832Z
UID:1722-1698256800-1698260400@margaretmcmullan.com
SUMMARY:Book Talk with Cynthia Newberry Martin
DESCRIPTION:
URL:https://margaretmcmullan.com/event/book-talk-with-cynthia-newberry-martin/
LOCATION:Pass Christian Library\, 111 Hiern Avenue \, Pass Christian\, MS\, 39571\, United States
END:VEVENT
BEGIN:VEVENT
DTSTART;TZID=America/New_York:20230918T190000
DTEND;TZID=America/New_York:20230918T200000
DTSTAMP:20260423T044130
CREATED:20220214T221118Z
LAST-MODIFIED:20230510T210934Z
UID:1596-1695063600-1695067200@margaretmcmullan.com
SUMMARY:Edward D and Regina Rechnic Holocaust Series Presenter
DESCRIPTION:
URL:https://margaretmcmullan.com/event/edward-d-and-regina-rechnic-holocaust-series-presenter/
END:VEVENT
BEGIN:VEVENT
DTSTART;TZID=America/New_York:20230819T080000
DTEND;TZID=America/New_York:20230819T170000
DTSTAMP:20260423T044130
CREATED:20240918T152511Z
LAST-MODIFIED:20240918T152511Z
UID:1750-1692432000-1692464400@margaretmcmullan.com
SUMMARY:Conversation with Lois Lowry
DESCRIPTION:
URL:https://margaretmcmullan.com/event/conversation-with-lois-lowry/
LOCATION:Mississippi Book Festival\, Jackson\, MS\, United States
END:VEVENT
BEGIN:VEVENT
DTSTART;TZID=America/New_York:20230803T080000
DTEND;TZID=America/New_York:20230806T170000
DTSTAMP:20260423T044130
CREATED:20221021T164528Z
LAST-MODIFIED:20221021T164528Z
UID:1644-1691049600-1691341200@margaretmcmullan.com
SUMMARY:Cape Cod Writers Conference
DESCRIPTION:
URL:https://margaretmcmullan.com/event/cape-cod-writers-conference/
LOCATION:Resort and Conference Center at Hyannis\, Hyannis\, MA\, United States
END:VEVENT
BEGIN:VEVENT
DTSTART;TZID=America/New_York:20230614T140000
DTEND;TZID=America/New_York:20230614T160000
DTSTAMP:20260423T044130
CREATED:20230510T211603Z
LAST-MODIFIED:20230510T211603Z
UID:1705-1686751200-1686758400@margaretmcmullan.com
SUMMARY:Writing Workshop for Young Adults
DESCRIPTION:
URL:https://margaretmcmullan.com/event/writing-workshop-for-young-adults-4/
LOCATION:Pass Christian Library\, 111 Hiern Avenue \, Pass Christian\, MS\, 39571\, United States
END:VEVENT
BEGIN:VEVENT
DTSTART;TZID=America/New_York:20230402T180000
DTEND;TZID=America/New_York:20230402T200000
DTSTAMP:20260423T044130
CREATED:20230205T194117Z
LAST-MODIFIED:20230205T194117Z
UID:1672-1680458400-1680465600@margaretmcmullan.com
SUMMARY:Look Away\, Look Away Screening and Q&A
DESCRIPTION:
URL:https://margaretmcmullan.com/event/look-away-look-away-screening-and-qa/
LOCATION:Mississippi Civil Rights Museum\, Jackson\, MS\, United States
END:VEVENT
BEGIN:VEVENT
DTSTART;TZID=America/New_York:20220817T080000
DTEND;TZID=America/New_York:20220817T170000
DTSTAMP:20260423T044130
CREATED:20220602T152744Z
LAST-MODIFIED:20220602T152744Z
UID:1636-1660723200-1660755600@margaretmcmullan.com
SUMMARY:Keynote speaker\, Lighthouse Business and Professional Women
DESCRIPTION:
URL:https://margaretmcmullan.com/event/keynote-speaker-lighthouse-business-and-professional-women/
END:VEVENT
BEGIN:VEVENT
DTSTART;TZID=America/New_York:20220608T140000
DTEND;TZID=America/New_York:20220608T160000
DTSTAMP:20260423T044130
CREATED:20220602T165049Z
LAST-MODIFIED:20220602T165049Z
UID:1639-1654696800-1654704000@margaretmcmullan.com
SUMMARY:Writing Workshop for Young Adults
DESCRIPTION:
URL:https://margaretmcmullan.com/event/writing-workshop-for-young-adults-3/
LOCATION:Pass Christian Library\, 111 Hiern Avenue \, Pass Christian\, MS\, 39571\, United States
END:VEVENT
BEGIN:VEVENT
DTSTART;TZID=America/New_York:20220429T100000
DTEND;TZID=America/New_York:20220429T110000
DTSTAMP:20260423T044130
CREATED:20210923T172403Z
LAST-MODIFIED:20210923T172403Z
UID:1577-1651226400-1651230000@margaretmcmullan.com
SUMMARY:Memoir Writing Workshop
DESCRIPTION:
URL:https://margaretmcmullan.com/event/memoir-writing-workshop-5/
LOCATION:The Darcy Hotel\, 1515 Rhode Island Avenue NW\, Washington\, DC\, United States
END:VEVENT
BEGIN:VEVENT
DTSTART;TZID=America/New_York:20220331T080000
DTEND;TZID=America/New_York:20220403T170000
DTSTAMP:20260423T044130
CREATED:20220302T154622Z
LAST-MODIFIED:20220302T154622Z
UID:1613-1648713600-1649005200@margaretmcmullan.com
SUMMARY:Look Away\, Look Away
DESCRIPTION:
URL:https://margaretmcmullan.com/event/look-away-look-away-2/
LOCATION:Organization of American Historians\, Boston\, MA\, United States
END:VEVENT
BEGIN:VEVENT
DTSTART;TZID=America/New_York:20220324T080000
DTEND;TZID=America/New_York:20220327T170000
DTSTAMP:20260423T044130
CREATED:20220302T154043Z
LAST-MODIFIED:20220302T154043Z
UID:1609-1648108800-1648400400@margaretmcmullan.com
SUMMARY:Look Away\, Look Away
DESCRIPTION:
URL:https://margaretmcmullan.com/event/look-away-look-away/
LOCATION:Sebastopol\, California\, Sebastopol\, CA\, United States
END:VEVENT
BEGIN:VEVENT
DTSTART;VALUE=DATE:20220224
DTEND;VALUE=DATE:20220227
DTSTAMP:20260423T044130
CREATED:20211015T155410Z
LAST-MODIFIED:20211015T155410Z
UID:1587-1645660800-1645919999@margaretmcmullan.com
SUMMARY:Natchez Literary & Cinema Celebration
DESCRIPTION:
URL:https://margaretmcmullan.com/event/natchez-literary-cinema-celebration/
END:VEVENT
BEGIN:VEVENT
DTSTART;TZID=America/New_York:20220112T113000
DTEND;TZID=America/New_York:20220112T123000
DTSTAMP:20260423T044130
CREATED:20211015T154635Z
LAST-MODIFIED:20211015T154635Z
UID:1581-1641987000-1641990600@margaretmcmullan.com
SUMMARY:Pearl River County Historical Society
DESCRIPTION:
URL:https://margaretmcmullan.com/event/pearl-river-county-historical-society/
LOCATION:Margaret Reed Crosby Memorial Library\, Goodyear Blvd\, Picayune\, MS\, United States
END:VEVENT
BEGIN:VEVENT
DTSTART;TZID=America/New_York:20211019T113000
DTEND;TZID=America/New_York:20211019T123000
DTSTAMP:20260423T044130
CREATED:20211015T155028Z
LAST-MODIFIED:20211015T155028Z
UID:1585-1634643000-1634646600@margaretmcmullan.com
SUMMARY:University of Pittsburgh-Bradford
DESCRIPTION:
URL:https://margaretmcmullan.com/event/university-of-pittsburgh-bradford/
LOCATION:University of Pittsburgh-Bradford\, Bradford\, PA\, United States
END:VEVENT
BEGIN:VEVENT
DTSTART;TZID=America/New_York:20210630T080000
DTEND;TZID=America/New_York:20210704T170000
DTSTAMP:20260423T044130
CREATED:20200421T175029Z
LAST-MODIFIED:20200831T155010Z
UID:1457-1625040000-1625418000@margaretmcmullan.com
SUMMARY:Keynote Speaker\, Federation of Jewish Men’s Club
DESCRIPTION:
URL:https://margaretmcmullan.com/event/where-the-angels-lived-talk-and-signing/
LOCATION:Sheraton Grand Chicago\, Chicago\, IL\, United States
END:VEVENT
BEGIN:VEVENT
DTSTART;TZID=America/New_York:20210114T160000
DTEND;TZID=America/New_York:20210114T170000
DTSTAMP:20260423T044130
CREATED:20200805T170458Z
LAST-MODIFIED:20200805T170458Z
UID:1496-1610640000-1610643600@margaretmcmullan.com
SUMMARY:ZOOM Webinar hosted by inSIGHT\, Fighting Prejudice Through Education
DESCRIPTION:
URL:https://margaretmcmullan.com/event/zoom-webinar-hosted-by-insight-fighting-prejudice-through-education/
LOCATION:https://insightthrougheducation.org
END:VEVENT
BEGIN:VEVENT
DTSTART;TZID=America/New_York:20201124T080000
DTEND;TZID=America/New_York:20201124T170000
DTSTAMP:20260423T044130
CREATED:20200908T145855Z
LAST-MODIFIED:20200908T145855Z
UID:1507-1606204800-1606237200@margaretmcmullan.com
SUMMARY:ZOOM Book Discussion\, Where the Angels Lived\, University of Evansville
DESCRIPTION:
URL:https://margaretmcmullan.com/event/zoom-book-discussion-where-the-angels-lived-university-of-evansville/
END:VEVENT
BEGIN:VEVENT
DTSTART;TZID=America/New_York:20201109T080000
DTEND;TZID=America/New_York:20201109T170000
DTSTAMP:20260423T044130
CREATED:20200927T215608Z
LAST-MODIFIED:20201021T160506Z
UID:1510-1604908800-1604941200@margaretmcmullan.com
SUMMARY:Virtual Panel Discussion: One Writer's Beginning with Politics & Prose Book Store
DESCRIPTION:
URL:https://margaretmcmullan.com/event/virtual-panel-discussion-with-politics-prose-book-store/
LOCATION:Politics and Prose Book Store\, Washington\, D.C.
END:VEVENT
BEGIN:VEVENT
DTSTART;TZID=America/New_York:20200818T190000
DTEND;TZID=America/New_York:20200818T200000
DTSTAMP:20260423T044130
CREATED:20200805T170937Z
LAST-MODIFIED:20200805T170937Z
UID:1500-1597777200-1597780800@margaretmcmullan.com
SUMMARY:ZOOM discussion\, WHERE THE ANGELS LIVED\, 2nd edition
DESCRIPTION:
URL:https://margaretmcmullan.com/event/zoom-discussion-where-the-angels-lived-2nd-edition/
END:VEVENT
BEGIN:VEVENT
DTSTART;VALUE=DATE:20200815
DTEND;VALUE=DATE:20200816
DTSTAMP:20260423T044130
CREATED:20200312T201904Z
LAST-MODIFIED:20200312T201904Z
UID:1416-1597449600-1597535999@margaretmcmullan.com
SUMMARY:Moderator\, Mississippi Book Festival
DESCRIPTION:
URL:https://margaretmcmullan.com/event/moderator-mississippi-book-festival/
LOCATION:Mississippi Book Festival\, Jackson\, MS\, United States
END:VEVENT
BEGIN:VEVENT
DTSTART;TZID=America/New_York:20200718T133000
DTEND;TZID=America/New_York:20200718T160000
DTSTAMP:20260423T044130
CREATED:20200119T233737Z
LAST-MODIFIED:20200119T233737Z
UID:1318-1595079000-1595088000@margaretmcmullan.com
SUMMARY:Memoir Writing Workshop
DESCRIPTION:
URL:https://margaretmcmullan.com/event/memoir-writing-workshop-4/
LOCATION:Atlanta Writers Club\, GSU-Dunwoody Campus\, Bldg. NC\, Atlanta\, GA\, United States
END:VEVENT
BEGIN:VEVENT
DTSTART;TZID=America/New_York:20200625T080000
DTEND;TZID=America/New_York:20200627T170000
DTSTAMP:20260423T044130
CREATED:20200220T192114Z
LAST-MODIFIED:20200220T192114Z
UID:1407-1593072000-1593277200@margaretmcmullan.com
SUMMARY:American Hungarian Educators' Association Conference
DESCRIPTION:
URL:https://margaretmcmullan.com/event/american-hungarian-educators-association-conference/
LOCATION:University of Pecs\, Hungary
END:VEVENT
BEGIN:VEVENT
DTSTART;TZID=America/New_York:20200612T140000
DTEND;TZID=America/New_York:20200612T160000
DTSTAMP:20260423T044130
CREATED:20200309T213947Z
LAST-MODIFIED:20200309T213947Z
UID:1413-1591970400-1591977600@margaretmcmullan.com
SUMMARY:Writing Workshop for Young Adults
DESCRIPTION:
URL:https://margaretmcmullan.com/event/writing-workshop-for-young-adults-2/
LOCATION:Pass Christian Library\, 111 Hiern Avenue \, Pass Christian\, MS\, 39571\, United States
END:VEVENT
BEGIN:VEVENT
DTSTART;TZID=America/New_York:20200426T133000
DTEND;TZID=America/New_York:20200426T163000
DTSTAMP:20260423T044130
CREATED:20191121T215757Z
LAST-MODIFIED:20200210T214233Z
UID:1297-1587907800-1587918600@margaretmcmullan.com
SUMMARY:Book Signing: U.S. Holocaust Museum
DESCRIPTION:
URL:https://margaretmcmullan.com/event/book-signing-u-s-holocaust-museum/
LOCATION:U.S. Holocaust Museum\, Washington\, D.C.\, United States
END:VEVENT
BEGIN:VEVENT
DTSTART;TZID=America/New_York:20200425T083000
DTEND;TZID=America/New_York:20200425T093000
DTSTAMP:20260423T044130
CREATED:20191111T182510Z
LAST-MODIFIED:20200210T214744Z
UID:1266-1587803400-1587807000@margaretmcmullan.com
SUMMARY:PEN WOMEN: Memoir Writing Workshop\, Finding Your Personal Treasures
DESCRIPTION:
URL:https://margaretmcmullan.com/event/memoir-writing-workshop-finding-your-personal-treasures/
LOCATION:The Darcy Hotel\, 1515 Rhode Island Avenue NW\, Washington\, DC\, United States
END:VEVENT
BEGIN:VEVENT
DTSTART;TZID=America/New_York:20200404T110000
DTEND;TZID=America/New_York:20200404T130000
DTSTAMP:20260423T044130
CREATED:20200210T212538Z
LAST-MODIFIED:20200210T212538Z
UID:1386-1585998000-1586005200@margaretmcmullan.com
SUMMARY:Reading and Signing\, WHERE THE ANGELS LIVED and EVERY FATHER'S DAUGHTER
DESCRIPTION:
URL:https://margaretmcmullan.com/event/reading-and-signing-where-the-angels-lived-and-every-fathers-daughter/
LOCATION:Lake Forest Book Store\, Lake Forest\, IL
END:VEVENT
END:VCALENDAR