BEGIN:VCALENDAR
VERSION:2.0
PRODID:-//Margaret McMullan - ECPv6.0.8//NONSGML v1.0//EN
CALSCALE:GREGORIAN
METHOD:PUBLISH
X-WR-CALNAME:Margaret McMullan
X-ORIGINAL-URL:https://margaretmcmullan.com
X-WR-CALDESC:Events for Margaret McMullan
REFRESH-INTERVAL;VALUE=DURATION:PT1H
X-Robots-Tag:noindex
X-PUBLISHED-TTL:PT1H
BEGIN:VTIMEZONE

END:VTIMEZONE
BEGIN:VEVENT
DTSTART;TZID=America/New_York:20260424T085138
DTEND;TZID=America/New_York:20260424T085138
DTSTAMP:20260424T085138
CREATED:20190620T164041Z
LAST-MODIFIED:20190620T164041Z
UID:1078-0-0@margaretmcmullan.com
SUMMARY:Book talk and signing\, WHERE THE ANGELS LIVED
DESCRIPTION:
URL:https://margaretmcmullan.com/event/book-talk-and-signing-where-the-angels-lived-4/
LOCATION:U.S. Holocaust Museum\, Washington\, D.C.\, United States
END:VEVENT
BEGIN:VEVENT
DTSTART;TZID=America/New_York:20260424T085138
DTEND;TZID=America/New_York:20260424T085138
DTSTAMP:20260424T085138
CREATED:20190620T163923Z
LAST-MODIFIED:20190620T163923Z
UID:1074-0-0@margaretmcmullan.com
SUMMARY:Book talk and signing\, WHERE THE ANGELS LIVED
DESCRIPTION:
URL:https://margaretmcmullan.com/event/book-talk-and-signing-where-the-angels-lived-3/
LOCATION:U.S. Holocaust Museum\, Washington\, D.C.\, United States
END:VEVENT
END:VCALENDAR