BEGIN:VCALENDAR
VERSION:2.0
PRODID:-//Margaret McMullan - ECPv6.0.8//NONSGML v1.0//EN
CALSCALE:GREGORIAN
METHOD:PUBLISH
X-ORIGINAL-URL:https://margaretmcmullan.com
X-WR-CALDESC:Events for Margaret McMullan
REFRESH-INTERVAL;VALUE=DURATION:PT1H
X-Robots-Tag:noindex
X-PUBLISHED-TTL:PT1H
BEGIN:VTIMEZONE
TZID:America/New_York
BEGIN:DAYLIGHT
TZOFFSETFROM:-0500
TZOFFSETTO:-0400
TZNAME:EDT
DTSTART:20150308T070000
END:DAYLIGHT
BEGIN:STANDARD
TZOFFSETFROM:-0400
TZOFFSETTO:-0500
TZNAME:EST
DTSTART:20151101T060000
END:STANDARD
END:VTIMEZONE
BEGIN:VEVENT
DTSTART;VALUE=DATE:20151020
DTEND;VALUE=DATE:20151021
DTSTAMP:20260424T033915
CREATED:20150623T215735Z
LAST-MODIFIED:20150623T215735Z
UID:346-1445299200-1445385599@margaretmcmullan.com
SUMMARY:Tenacre School
DESCRIPTION:
URL:https://margaretmcmullan.com/event/tenacre-school/
LOCATION:Tenacre School\, Wellesley\, MA
END:VEVENT
BEGIN:VEVENT
DTSTART;TZID=America/New_York:20151011T143000
DTEND;TZID=America/New_York:20151011T153000
DTSTAMP:20260424T033915
CREATED:20150911T220658Z
LAST-MODIFIED:20150911T221253Z
UID:407-1444573800-1444577400@margaretmcmullan.com
SUMMARY:Southern Festival of Books
DESCRIPTION:Steps Towards Equality: Stories of Civil Rights in the ’60’s
URL:https://margaretmcmullan.com/event/southern-festival-of-books/
LOCATION:LP Room 30\, Nashville\, TN
END:VEVENT
BEGIN:VEVENT
DTSTART;TZID=America/New_York:20151010T140000
DTEND;TZID=America/New_York:20151010T150000
DTSTAMP:20260424T033915
CREATED:20150706T203802Z
LAST-MODIFIED:20150911T220727Z
UID:356-1444485600-1444489200@margaretmcmullan.com
SUMMARY:Southern Festival of Books
DESCRIPTION:Erased from the Map: Facing Coastal Extinction
URL:https://margaretmcmullan.com/event/southern-book-festival/
LOCATION:Nashville Public Library Banner Room\, Nashville\, TN
END:VEVENT
BEGIN:VEVENT
DTSTART;VALUE=DATE:20150916
DTEND;VALUE=DATE:20150917
DTSTAMP:20260424T033915
CREATED:20150421T235226Z
LAST-MODIFIED:20150421T235226Z
UID:227-1442361600-1442447999@margaretmcmullan.com
SUMMARY:Kaskaskia College
DESCRIPTION:
URL:https://margaretmcmullan.com/event/kaskaskia-college/
LOCATION:Unnamed Venue\, Centralia\, IL
END:VEVENT
BEGIN:VEVENT
DTSTART;VALUE=DATE:20150915
DTEND;VALUE=DATE:20150916
DTSTAMP:20260424T033915
CREATED:20150421T235031Z
LAST-MODIFIED:20150902T202442Z
UID:225-1442275200-1442361599@margaretmcmullan.com
SUMMARY:Inklings Book Group
DESCRIPTION:
URL:https://margaretmcmullan.com/event/inklings-book-group/
LOCATION:Evansville Country Club\, Evansville\, IN
END:VEVENT
BEGIN:VEVENT
DTSTART;TZID=America/New_York:20150910T123000
DTEND;TZID=America/New_York:20150910T134500
DTSTAMP:20260424T033915
CREATED:20150521T040046Z
LAST-MODIFIED:20150521T040046Z
UID:281-1441888200-1441892700@margaretmcmullan.com
SUMMARY:University of Missouri-St. Louis
DESCRIPTION:
URL:https://margaretmcmullan.com/event/university-of-missouri-st-louis/
END:VEVENT
BEGIN:VEVENT
DTSTART;VALUE=DATE:20150822
DTEND;VALUE=DATE:20150823
DTSTAMP:20260424T033915
CREATED:20150416T225853Z
LAST-MODIFIED:20150416T225853Z
UID:211-1440201600-1440287999@margaretmcmullan.com
SUMMARY:Mississippi Book Festival
DESCRIPTION:
URL:https://margaretmcmullan.com/event/mississippi-book-festival/
LOCATION:New State Capital\, Jackson\, MS
END:VEVENT
BEGIN:VEVENT
DTSTART;TZID=America/New_York:20150724T170000
DTEND;TZID=America/New_York:20150724T183000
DTSTAMP:20260424T033915
CREATED:20150706T202759Z
LAST-MODIFIED:20150706T202759Z
UID:353-1437757200-1437762600@margaretmcmullan.com
SUMMARY:Remarks for Young Writers
DESCRIPTION:
URL:https://margaretmcmullan.com/event/remarks-for-young-writers/
LOCATION:Millsaps College\, Jackson\, MS
END:VEVENT
BEGIN:VEVENT
DTSTART;TZID=America/New_York:20150618T190000
DTEND;TZID=America/New_York:20150618T210000
DTSTAMP:20260424T033915
CREATED:20150416T225726Z
LAST-MODIFIED:20150416T225726Z
UID:209-1434654000-1434661200@margaretmcmullan.com
SUMMARY:The Community Book Store
DESCRIPTION:
URL:https://margaretmcmullan.com/event/the-community-book-store/
LOCATION:The Community Book Store\, Park Slope\, NY
END:VEVENT
BEGIN:VEVENT
DTSTART;TZID=America/New_York:20150612T183000
DTEND;TZID=America/New_York:20150612T203000
DTSTAMP:20260424T033915
CREATED:20150416T225639Z
LAST-MODIFIED:20150416T225639Z
UID:207-1434133800-1434141000@margaretmcmullan.com
SUMMARY:Parnassus Books
DESCRIPTION:
URL:https://margaretmcmullan.com/event/parnassus-books/
LOCATION:Parnassus Books\, 3900 Hillsboro Pike\, Nashville\, TN\, 37215
END:VEVENT
BEGIN:VEVENT
DTSTART;TZID=America/New_York:20150605T180000
DTEND;TZID=America/New_York:20150605T200000
DTSTAMP:20260424T033915
CREATED:20150416T225532Z
LAST-MODIFIED:20150429T025347Z
UID:205-1433527200-1433534400@margaretmcmullan.com
SUMMARY:Lake Forest Book Store
DESCRIPTION:
URL:https://margaretmcmullan.com/event/lake-forest-book-store/
LOCATION:Lake Forest Book Store\, Lake Forest\, IL
END:VEVENT
BEGIN:VEVENT
DTSTART;TZID=America/New_York:20150603T180000
DTEND;TZID=America/New_York:20150603T200000
DTSTAMP:20260424T033915
CREATED:20150416T225447Z
LAST-MODIFIED:20150416T225447Z
UID:203-1433354400-1433361600@margaretmcmullan.com
SUMMARY:Harold Washington Library Center
DESCRIPTION:
URL:https://margaretmcmullan.com/event/harold-washington-library-center/
LOCATION:Chicago Public Library\, Chicago\, IL
END:VEVENT
BEGIN:VEVENT
DTSTART;TZID=America/New_York:20150603T103000
DTEND;TZID=America/New_York:20150603T113000
DTSTAMP:20260424T033915
CREATED:20150428T234653Z
LAST-MODIFIED:20150428T234653Z
UID:241-1433327400-1433331000@margaretmcmullan.com
SUMMARY:"You and Me This Morning" WCIU-TV\, Chicago
DESCRIPTION:
URL:https://margaretmcmullan.com/event/you-and-me-this-morning-wciu-tv-chicago/
END:VEVENT
BEGIN:VEVENT
DTSTART;TZID=America/New_York:20150523T160000
DTEND;TZID=America/New_York:20150523T180000
DTSTAMP:20260424T033915
CREATED:20150416T225351Z
LAST-MODIFIED:20150416T225351Z
UID:200-1432396800-1432404000@margaretmcmullan.com
SUMMARY:Indy Reads Books
DESCRIPTION:
URL:https://margaretmcmullan.com/event/indy-reads-books/
LOCATION:Indy Reads Books\, Indianapolis\, IN
ORGANIZER;CN="Unnamed%20Organizer":MAILTO:nrb728@gmail.com
END:VEVENT
BEGIN:VEVENT
DTSTART;VALUE=DATE:20150515
DTEND;VALUE=DATE:20150518
DTSTAMP:20260424T033915
CREATED:20150416T225233Z
LAST-MODIFIED:20150416T225233Z
UID:198-1431648000-1431907199@margaretmcmullan.com
SUMMARY:South Carolina Book Festival
DESCRIPTION:Panels: Importance of Place (Aftermath Lounge) and Anthologies (Every Father’s Daughter)
URL:https://margaretmcmullan.com/event/south-carolina-book-festival/
LOCATION:Columbia Metropolitan Convention Center\, Columbia\, SC
END:VEVENT
BEGIN:VEVENT
DTSTART;TZID=America/New_York:20150513T190000
DTEND;TZID=America/New_York:20150513T190000
DTSTAMP:20260424T033915
CREATED:20150416T225115Z
LAST-MODIFIED:20150416T225115Z
UID:196-1431543600-1431543600@margaretmcmullan.com
SUMMARY:Malaprops Book Store
DESCRIPTION:
URL:https://margaretmcmullan.com/event/malaprops-book-store/
LOCATION:Malaprops Book Store\, Ashville\, NC
END:VEVENT
BEGIN:VEVENT
DTSTART;TZID=America/New_York:20150507T170000
DTEND;TZID=America/New_York:20150507T190000
DTSTAMP:20260424T033915
CREATED:20150416T224956Z
LAST-MODIFIED:20150421T234748Z
UID:194-1431018000-1431025200@margaretmcmullan.com
SUMMARY:Writers' Coffeehouse
DESCRIPTION:
URL:https://margaretmcmullan.com/event/writers-coffeehouse/
LOCATION:Henderson Community College\, Planters Coffeehouse\, 130 N. Main St.\, Henderson\, KY
END:VEVENT
BEGIN:VEVENT
DTSTART;TZID=America/New_York:20150507T080000
DTEND;TZID=America/New_York:20150507T170000
DTSTAMP:20260424T033915
CREATED:20150428T234220Z
LAST-MODIFIED:20150428T234238Z
UID:239-1430985600-1431018000@margaretmcmullan.com
SUMMARY:Mississippi Public Broadcasting "Conversations" (NPR Radio) Interview
DESCRIPTION:
URL:https://margaretmcmullan.com/event/mississippi-public-broadcasting-conversations-npr-radio-interview/
END:VEVENT
BEGIN:VEVENT
DTSTART;TZID=America/New_York:20150503T113000
DTEND;TZID=America/New_York:20150503T150000
DTSTAMP:20260424T033915
CREATED:20150416T223533Z
LAST-MODIFIED:20150416T223533Z
UID:192-1430652600-1430665200@margaretmcmullan.com
SUMMARY:WordTheatre
DESCRIPTION:
URL:https://margaretmcmullan.com/event/wordtheatre/
LOCATION:The Microsoft Lounge\, 901 Abbot Kinney Blvd\, Suite A \, Venice\, CA\, 90291
END:VEVENT
BEGIN:VEVENT
DTSTART;TZID=America/New_York:20150501T151500
DTEND;TZID=America/New_York:20150501T170000
DTSTAMP:20260424T033915
CREATED:20150414T013455Z
LAST-MODIFIED:20150414T013542Z
UID:183-1430493300-1430499600@margaretmcmullan.com
SUMMARY:Blue Marble Books
DESCRIPTION:
URL:https://margaretmcmullan.com/event/blue-marble-books/
LOCATION:Blue Marble Books\, 1356 S. Ft Thomas Ave\, Ft. Thomas\, KY\, 41075\, United States
END:VEVENT
BEGIN:VEVENT
DTSTART;TZID=America/New_York:20150501T060000
DTEND;TZID=America/New_York:20150501T070000
DTSTAMP:20260424T033915
CREATED:20150428T234508Z
LAST-MODIFIED:20150428T234508Z
UID:240-1430460000-1430463600@margaretmcmullan.com
SUMMARY:Good Morning Cincinnati WKRC-TV
DESCRIPTION:
URL:https://margaretmcmullan.com/event/good-morning-cincinnati-wkrc-tv/
END:VEVENT
BEGIN:VEVENT
DTSTART;TZID=America/New_York:20150430T163000
DTEND;TZID=America/New_York:20150430T173000
DTSTAMP:20260424T033915
CREATED:20150423T043043Z
LAST-MODIFIED:20150428T234853Z
UID:237-1430411400-1430415000@margaretmcmullan.com
SUMMARY:"Around Cincinnati" WVXU-FM (NPR)
DESCRIPTION:  \n 
URL:https://margaretmcmullan.com/event/interview-cincinnati-public-radio-wvxu-fm-around-cincinnati/
END:VEVENT
BEGIN:VEVENT
DTSTART;VALUE=DATE:20150430
DTEND;VALUE=DATE:20150503
DTSTAMP:20260424T033915
CREATED:20150414T013327Z
LAST-MODIFIED:20150414T013327Z
UID:181-1430352000-1430611199@margaretmcmullan.com
SUMMARY:Kentucky Book Festival
DESCRIPTION:
URL:https://margaretmcmullan.com/event/kentucky-book-festival/
LOCATION:Northern Kentucky University\, Highland Heights\, KY\, United States
END:VEVENT
BEGIN:VEVENT
DTSTART;TZID=America/New_York:20150429T111500
DTEND;TZID=America/New_York:20150429T121500
DTSTAMP:20260424T033915
CREATED:20150428T235152Z
LAST-MODIFIED:20150428T235152Z
UID:242-1430306100-1430309700@margaretmcmullan.com
SUMMARY:WNIN Evansville NPR
DESCRIPTION:
URL:https://margaretmcmullan.com/event/wnin-evansville-npr/
END:VEVENT
BEGIN:VEVENT
DTSTART;TZID=America/New_York:20150425T130000
DTEND;TZID=America/New_York:20150425T150000
DTSTAMP:20260424T033915
CREATED:20150414T013057Z
LAST-MODIFIED:20150414T013057Z
UID:179-1429966800-1429974000@margaretmcmullan.com
SUMMARY:Lemuria Books
DESCRIPTION:
URL:https://margaretmcmullan.com/event/lemuria-books/
LOCATION:Banner Hall\, Jackson\, MS\, United States
END:VEVENT
BEGIN:VEVENT
DTSTART;TZID=America/New_York:20150424T180000
DTEND;TZID=America/New_York:20150424T200000
DTSTAMP:20260424T033915
CREATED:20150414T012943Z
LAST-MODIFIED:20150414T012943Z
UID:177-1429898400-1429905600@margaretmcmullan.com
SUMMARY:Pass Christian Books
DESCRIPTION:
URL:https://margaretmcmullan.com/event/pass-christian-books/
LOCATION:Pass Christian Books\, Pass Christian\, MS\, United States
END:VEVENT
BEGIN:VEVENT
DTSTART;TZID=America/New_York:20150418T140000
DTEND;TZID=America/New_York:20150418T150000
DTSTAMP:20260424T033915
CREATED:20150414T012806Z
LAST-MODIFIED:20150414T012806Z
UID:175-1429365600-1429369200@margaretmcmullan.com
SUMMARY:Barnes & Noble Book Signing
DESCRIPTION:Book signing.
URL:https://margaretmcmullan.com/event/barnes-noble-book-signing/
LOCATION:Barnes & Noble\, 624 S. Green River Road\, Evansville\, IN\, United States
END:VEVENT
BEGIN:VEVENT
DTSTART;TZID=America/New_York:20150417T160000
DTEND;TZID=America/New_York:20150417T170000
DTSTAMP:20260424T033915
CREATED:20150414T012617Z
LAST-MODIFIED:20150414T012617Z
UID:174-1429286400-1429290000@margaretmcmullan.com
SUMMARY:Reading and book signing with Bruce McPherson
DESCRIPTION:Reading and book signing of Every Father’s Daughter with Bruce McPherson.
URL:https://margaretmcmullan.com/event/reading-and-book-signing-with-bruce-mcpherson/
LOCATION:Melvin Peterson Gallery\, 1935 Lincoln Avenue\, Evansville\, IN\, United States
END:VEVENT
BEGIN:VEVENT
DTSTART;TZID=America/New_York:20150416T160000
DTEND;TZID=America/New_York:20150416T170000
DTSTAMP:20260424T033915
CREATED:20150414T012359Z
LAST-MODIFIED:20150414T012359Z
UID:172-1429200000-1429203600@margaretmcmullan.com
SUMMARY:Reading and Book Signing
DESCRIPTION:Reading and Book Signing from Aftermath Lounge
URL:https://margaretmcmullan.com/event/melvingalleryreading/
LOCATION:Melvin Peterson Gallery\, 1935 Lincoln Avenue\, Evansville\, IN\, United States
END:VEVENT
BEGIN:VEVENT
DTSTART;TZID=America/New_York:20150409T190000
DTEND;TZID=America/New_York:20150409T220000
DTSTAMP:20260424T033915
CREATED:20150409T073140Z
LAST-MODIFIED:20150409T073140Z
UID:126-1428606000-1428616800@margaretmcmullan.com
SUMMARY:Reading and Book Signing
DESCRIPTION:
URL:https://margaretmcmullan.com/event/reading-and-book-signing/
LOCATION:Honey Lounge\, 205 E. Hennepin Avenue\, Minneapolis\, MN\, 55414\, United States
END:VEVENT
END:VCALENDAR