BEGIN:VCALENDAR
VERSION:2.0
PRODID:-//Margaret McMullan - ECPv6.0.8//NONSGML v1.0//EN
CALSCALE:GREGORIAN
METHOD:PUBLISH
X-ORIGINAL-URL:https://margaretmcmullan.com
X-WR-CALDESC:Events for Margaret McMullan
REFRESH-INTERVAL;VALUE=DURATION:PT1H
X-Robots-Tag:noindex
X-PUBLISHED-TTL:PT1H
BEGIN:VTIMEZONE
TZID:UTC
BEGIN:STANDARD
TZOFFSETFROM:+0000
TZOFFSETTO:+0000
TZNAME:UTC
DTSTART:20190101T000000
END:STANDARD
TZID:America/New_York
BEGIN:DAYLIGHT
TZOFFSETFROM:-0500
TZOFFSETTO:-0400
TZNAME:EDT
DTSTART:20190310T070000
END:DAYLIGHT
BEGIN:STANDARD
TZOFFSETFROM:-0400
TZOFFSETTO:-0500
TZNAME:EST
DTSTART:20191103T060000
END:STANDARD
END:VTIMEZONE
BEGIN:VEVENT
DTSTART;TZID=UTC:20190910T190000
DTEND;TZID=UTC:20190910T203000
DTSTAMP:20260423T174627
CREATED:20190208T210745Z
LAST-MODIFIED:20190827T221110Z
UID:803-1568142000-1568147400@margaretmcmullan.com
SUMMARY:Reading and Signing WHERE THE ANGELS LIVED
DESCRIPTION:
URL:https://margaretmcmullan.com/event/reading-and-signing-where-the-angels-lived-2/
LOCATION:Millsaps College\, Jackson\, MS
END:VEVENT
BEGIN:VEVENT
DTSTART;TZID=America/New_York:20190905T190000
DTEND;TZID=America/New_York:20190905T200000
DTSTAMP:20260423T174627
CREATED:20190731T184550Z
LAST-MODIFIED:20190731T184550Z
UID:1165-1567710000-1567713600@margaretmcmullan.com
SUMMARY:An Evening with Margaret McMullan\, author of WHERE THE ANGELS LIVED
DESCRIPTION:
URL:https://margaretmcmullan.com/event/an-evening-with-margaret-mcmullan-author-of-where-the-angels-lived-2/
LOCATION:The Place of Stories\, Galilee\, Israel\, Israel
END:VEVENT
BEGIN:VEVENT
DTSTART;TZID=America/New_York:20190904T190000
DTEND;TZID=America/New_York:20190904T200000
DTSTAMP:20260423T174627
CREATED:20190731T184340Z
LAST-MODIFIED:20190731T184340Z
UID:1160-1567623600-1567627200@margaretmcmullan.com
SUMMARY:An Evening with Margaret McMullan\, author of WHERE THE ANGELS LIVED
DESCRIPTION:
URL:https://margaretmcmullan.com/event/an-evening-with-margaret-mcmullan-author-of-where-the-angels-lived/
LOCATION:The Hebrew Reali School-Ahuza Branch\, Har'el St 19\, Haifa\, Israel\, Israel
END:VEVENT
BEGIN:VEVENT
DTSTART;TZID=America/New_York:20190904T103000
DTEND;TZID=America/New_York:20190904T113000
DTSTAMP:20260423T174627
CREATED:20190818T190304Z
LAST-MODIFIED:20190818T190304Z
UID:1185-1567593000-1567596600@margaretmcmullan.com
SUMMARY:Private Event
DESCRIPTION:
URL:https://margaretmcmullan.com/event/private-event-2/
LOCATION:Caesarea\, Israel
END:VEVENT
BEGIN:VEVENT
DTSTART;TZID=America/New_York:20190903T080000
DTEND;TZID=America/New_York:20190903T170000
DTSTAMP:20260423T174627
CREATED:20190818T190136Z
LAST-MODIFIED:20190818T190136Z
UID:1182-1567497600-1567530000@margaretmcmullan.com
SUMMARY:Private Event
DESCRIPTION:
URL:https://margaretmcmullan.com/event/private-event/
LOCATION:Israel\, Israel
END:VEVENT
BEGIN:VEVENT
DTSTART;TZID=America/New_York:20190903T080000
DTEND;TZID=America/New_York:20190903T170000
DTSTAMP:20260423T174627
CREATED:20190815T205829Z
LAST-MODIFIED:20190815T205829Z
UID:1180-1567497600-1567530000@margaretmcmullan.com
SUMMARY:Talk with Students at Walworth Barbour American International School
DESCRIPTION:
URL:https://margaretmcmullan.com/event/talk-with-students-at-walworth-barbour-american-international-school/
LOCATION:Illinois
END:VEVENT
BEGIN:VEVENT
DTSTART;TZID=America/New_York:20190902T190000
DTEND;TZID=America/New_York:20190902T200000
DTSTAMP:20260423T174627
CREATED:20190731T183233Z
LAST-MODIFIED:20190731T183710Z
UID:1156-1567450800-1567454400@margaretmcmullan.com
SUMMARY:Book Talk and Signing\, WHERE THE ANGELS LIVED
DESCRIPTION:
URL:https://margaretmcmullan.com/event/book-talk-and-signing-where-the-angels-lived-8/
LOCATION:Tmol Shilshom\, Yo'el Moshe Salomon St 5\, Jerusalem\, Israel\, Israel
END:VEVENT
BEGIN:VEVENT
DTSTART;TZID=America/New_York:20190902T100000
DTEND;TZID=America/New_York:20190902T110000
DTSTAMP:20260423T174627
CREATED:20190714T132745Z
LAST-MODIFIED:20190731T185845Z
UID:1134-1567418400-1567422000@margaretmcmullan.com
SUMMARY:Wreath-Laying Ceremony for Richárd at Yad Vashem
DESCRIPTION:
URL:https://margaretmcmullan.com/event/present-where-the-angels-lived-to-thank-yad-vashem-archivists/
LOCATION:Yad Vashem\, Jerusalem\, Israel\, Israel
END:VEVENT
BEGIN:VEVENT
DTSTART;TZID=America/New_York:20190829T180000
DTEND;TZID=America/New_York:20190829T190000
DTSTAMP:20260423T174627
CREATED:20190510T141344Z
LAST-MODIFIED:20190708T143902Z
UID:1017-1567101600-1567105200@margaretmcmullan.com
SUMMARY:Book talk and signing\, WHERE THE ANGELS LIVED
DESCRIPTION:
URL:https://margaretmcmullan.com/event/book-talk-and-signing-where-the-angels-lived-2/
LOCATION:Newberry Library\, Chicago\, IL\, United States
END:VEVENT
BEGIN:VEVENT
DTSTART;TZID=America/New_York:20190822T180000
DTEND;TZID=America/New_York:20190822T193000
DTSTAMP:20260423T174627
CREATED:20190612T174456Z
LAST-MODIFIED:20190612T174456Z
UID:1059-1566496800-1566502200@margaretmcmullan.com
SUMMARY:Reading and Signing\, WHERE THE ANGELS LIVED
DESCRIPTION:
URL:https://margaretmcmullan.com/event/reading-and-signing-where-the-angels-lived-10/
LOCATION:Garden District Book Shop\, New Orleans\, LA
END:VEVENT
BEGIN:VEVENT
DTSTART;TZID=UTC:20190817T133000
DTEND;TZID=UTC:20190817T150000
DTSTAMP:20260423T174627
CREATED:20190207T213827Z
LAST-MODIFIED:20190702T150111Z
UID:787-1566048600-1566054000@margaretmcmullan.com
SUMMARY:Panel Discussion\, Memoir
DESCRIPTION:
URL:https://margaretmcmullan.com/event/where-the-angels-lived-book-talk/
LOCATION:MS Book Festival\, Fellowship Center\, Jackson\, MS\, United States
END:VEVENT
BEGIN:VEVENT
DTSTART;TZID=America/New_York:20190814T173000
DTEND;TZID=America/New_York:20190814T183000
DTSTAMP:20260423T174627
CREATED:20190530T153353Z
LAST-MODIFIED:20190531T150710Z
UID:1033-1565803800-1565807400@margaretmcmullan.com
SUMMARY:Book Group Discussion\, WHERE THE ANGELS LIVED
DESCRIPTION:
URL:https://margaretmcmullan.com/event/book-group-discussion-where-the-angels-lived/
LOCATION:Private Home\, Evansville\, IN\, United States
END:VEVENT
BEGIN:VEVENT
DTSTART;TZID=UTC:20190809T140000
DTEND;TZID=UTC:20190809T150000
DTSTAMP:20260423T174627
CREATED:20190326T200314Z
LAST-MODIFIED:20190326T200314Z
UID:925-1565359200-1565362800@margaretmcmullan.com
SUMMARY:Memoir Writing Workshop
DESCRIPTION:
URL:https://margaretmcmullan.com/event/memoir-writing-workshop-3/
LOCATION:Provincetown Library\, Provincetown\, MA\, United States
END:VEVENT
BEGIN:VEVENT
DTSTART;TZID=UTC:20190808T190000
DTEND;TZID=UTC:20190808T200000
DTSTAMP:20260423T174627
CREATED:20190321T205006Z
LAST-MODIFIED:20190325T192713Z
UID:918-1565290800-1565294400@margaretmcmullan.com
SUMMARY:Reading\, Signing WHERE THE ANGELS LIVED
DESCRIPTION:
URL:https://margaretmcmullan.com/event/reading-signing-where-the-angels-lived-2/
LOCATION:East End Books\, Provincetown\, MA\, United States
END:VEVENT
BEGIN:VEVENT
DTSTART;TZID=UTC:20190808T130000
DTEND;TZID=UTC:20190808T140000
DTSTAMP:20260423T174627
CREATED:20190327T235349Z
LAST-MODIFIED:20190402T233206Z
UID:927-1565269200-1565272800@margaretmcmullan.com
SUMMARY:The Accidental Memoirist; WHERE THE ANGELS LIVED
DESCRIPTION:
URL:https://margaretmcmullan.com/event/reading-and-signing-where-the-angels-lived-8/
LOCATION:Sturgis Library\, Barnstable\, MA\, United States
END:VEVENT
BEGIN:VEVENT
DTSTART;TZID=UTC:20190807T190000
DTEND;TZID=UTC:20190807T200000
DTSTAMP:20260423T174627
CREATED:20190320T012412Z
LAST-MODIFIED:20190320T012412Z
UID:914-1565204400-1565208000@margaretmcmullan.com
SUMMARY:Reading\, Signing\, Where the Angels Lived
DESCRIPTION:
URL:https://margaretmcmullan.com/event/reading-signing-where-the-angels-lived/
LOCATION:Left Bank Books\, Belfast\, ME\, United States
END:VEVENT
BEGIN:VEVENT
DTSTART;TZID=America/New_York:20190729T150000
DTEND;TZID=America/New_York:20190729T160000
DTSTAMP:20260423T174627
CREATED:20190531T145854Z
LAST-MODIFIED:20190531T145854Z
UID:1039-1564412400-1564416000@margaretmcmullan.com
SUMMARY:Book Discussion\, WHERE THE ANGELS LIVED
DESCRIPTION:
URL:https://margaretmcmullan.com/event/book-discussion-where-the-angels-lived/
LOCATION:Private Home\, Chicago\, Illinois
END:VEVENT
BEGIN:VEVENT
DTSTART;TZID=UTC:20190728T190000
DTEND;TZID=UTC:20190728T200000
DTSTAMP:20260423T174627
CREATED:20190212T202044Z
LAST-MODIFIED:20190212T202044Z
UID:819-1564340400-1564344000@margaretmcmullan.com
SUMMARY:Reading and Signing WHERE THE ANGELS LIVED
DESCRIPTION:
URL:https://margaretmcmullan.com/event/reading-and-signing-where-the-angels-lived-6/
LOCATION:The Reveler\, Chicago\, IL\, United States
END:VEVENT
BEGIN:VEVENT
DTSTART;TZID=UTC:20190717T140000
DTEND;TZID=UTC:20190717T160000
DTSTAMP:20260423T174627
CREATED:20190228T032539Z
LAST-MODIFIED:20190228T032539Z
UID:880-1563372000-1563379200@margaretmcmullan.com
SUMMARY:Youth Writing Workshop
DESCRIPTION:
URL:https://margaretmcmullan.com/event/youth-writing-workshop/
LOCATION:Pass Christian Library\, 111 Hiern Avenue \, Pass Christian\, MS\, 39571\, United States
END:VEVENT
BEGIN:VEVENT
DTSTART;TZID=America/New_York:20190709T120000
DTEND;TZID=America/New_York:20190709T140000
DTSTAMP:20260423T174627
CREATED:20190625T160017Z
LAST-MODIFIED:20190625T160017Z
UID:1092-1562673600-1562680800@margaretmcmullan.com
SUMMARY:Book Discussion\, WHERE THE ANGELS LIVED
DESCRIPTION:
URL:https://margaretmcmullan.com/event/book-discussion-where-the-angels-lived-3/
LOCATION:Private Home\, Hattiesburg\, MS\, United States
END:VEVENT
BEGIN:VEVENT
DTSTART;TZID=UTC:20190621T180000
DTEND;TZID=UTC:20190621T190000
DTSTAMP:20260423T174627
CREATED:20190213T023602Z
LAST-MODIFIED:20190213T023602Z
UID:829-1561140000-1561143600@margaretmcmullan.com
SUMMARY:Reading and Signing WHERE THE ANGELS LIVED
DESCRIPTION:
URL:https://margaretmcmullan.com/event/reading-and-signing-where-the-angels-lived-7/
LOCATION:Lake Forest Book Store\, Lake Forest\, IL\, United States
END:VEVENT
BEGIN:VEVENT
DTSTART;TZID=UTC:20190620T183000
DTEND;TZID=UTC:20190620T210000
DTSTAMP:20260423T174627
CREATED:20190208T013747Z
LAST-MODIFIED:20190208T013747Z
UID:799-1561055400-1561064400@margaretmcmullan.com
SUMMARY:Writing Workshop
DESCRIPTION:
URL:https://margaretmcmullan.com/event/writing-workshop/
LOCATION:Story Studio\, Chicago\, IL\, United States
END:VEVENT
BEGIN:VEVENT
DTSTART;TZID=UTC:20190619T190000
DTEND;TZID=UTC:20190619T203000
DTSTAMP:20260423T174627
CREATED:20190202T025445Z
LAST-MODIFIED:20190202T025445Z
UID:782-1560970800-1560976200@margaretmcmullan.com
SUMMARY:Book Talk and Signing for WHERE THE ANGELS LIVED
DESCRIPTION:
URL:https://margaretmcmullan.com/event/book-talk-and-signing-for-where-the-angels-lived-2/
LOCATION:The Book Cellar\, Chicago\, IL\, United States
END:VEVENT
BEGIN:VEVENT
DTSTART;TZID=UTC:20190609T183000
DTEND;TZID=UTC:20190609T203000
DTSTAMP:20260423T174627
CREATED:20190314T015554Z
LAST-MODIFIED:20190315T014352Z
UID:909-1560105000-1560112200@margaretmcmullan.com
SUMMARY:Memoir Writing Workshop
DESCRIPTION:
URL:https://margaretmcmullan.com/event/memoir-writing-workshop-2/
LOCATION:San Diego Writers Inc.\, San Diego\, CA\, United States
END:VEVENT
BEGIN:VEVENT
DTSTART;TZID=UTC:20190609T163000
DTEND;TZID=UTC:20190609T173000
DTSTAMP:20260423T174627
CREATED:20190228T024230Z
LAST-MODIFIED:20190312T013942Z
UID:876-1560097800-1560101400@margaretmcmullan.com
SUMMARY:Reading and Talk Where the Angels Lived
DESCRIPTION:
URL:https://margaretmcmullan.com/event/reading-and-talk-where-the-angels-lived/
LOCATION:Women’s Museum of California\, San Diego\, CA\, United States
END:VEVENT
BEGIN:VEVENT
DTSTART;TZID=UTC:20190608T110000
DTEND;TZID=UTC:20190608T140000
DTSTAMP:20260423T174627
CREATED:20190130T032617Z
LAST-MODIFIED:20190130T035457Z
UID:774-1559991600-1560002400@margaretmcmullan.com
SUMMARY:Memoir Writing Workshop
DESCRIPTION:
URL:https://margaretmcmullan.com/event/memoir-writing-workshop/
LOCATION:Beyond Baroque\, Venice\, CA\, United States
END:VEVENT
BEGIN:VEVENT
DTSTART;TZID=UTC:20190607T200000
DTEND;TZID=UTC:20190607T210000
DTSTAMP:20260423T174628
CREATED:20190130T032450Z
LAST-MODIFIED:20190130T032450Z
UID:770-1559937600-1559941200@margaretmcmullan.com
SUMMARY:Reading and Signing\, WHERE THE ANGELS LIVED
DESCRIPTION:
URL:https://margaretmcmullan.com/event/reading-and-signing-where-the-angels-lived/
LOCATION:Beyond Baroque\, Venice\, CA\, United States
END:VEVENT
BEGIN:VEVENT
DTSTART;TZID=UTC:20190603T200000
DTEND;TZID=UTC:20190603T210000
DTSTAMP:20260423T174628
CREATED:20190211T203643Z
LAST-MODIFIED:20190212T015739Z
UID:810-1559592000-1559595600@margaretmcmullan.com
SUMMARY:Reading and Signing WHERE THE ANGELS LIVED
DESCRIPTION:
URL:https://margaretmcmullan.com/event/reading-and-signing-where-the-angels-lived-4/
LOCATION:Books and Books\, Coral Gables\, FL\, United States
END:VEVENT
BEGIN:VEVENT
DTSTART;TZID=UTC:20190529T180000
DTEND;TZID=UTC:20190529T190000
DTSTAMP:20260423T174628
CREATED:20190202T013729Z
LAST-MODIFIED:20190202T013844Z
UID:777-1559152800-1559156400@margaretmcmullan.com
SUMMARY:Book Talk and Signing for WHERE THE ANGELS LIVED
DESCRIPTION:
URL:https://margaretmcmullan.com/event/book-talk-and-signing-for-where-the-angels-lived/
LOCATION:Book Cellar\, Lake Worth\, FL\, United States
END:VEVENT
BEGIN:VEVENT
DTSTART;TZID=UTC:20190528T110000
DTEND;TZID=UTC:20190528T120000
DTSTAMP:20260423T174628
CREATED:20190212T020755Z
LAST-MODIFIED:20190212T020755Z
UID:815-1559041200-1559044800@margaretmcmullan.com
SUMMARY:Reading and Signing WHERE THE ANGELS LIVED
DESCRIPTION:
URL:https://margaretmcmullan.com/event/reading-and-signing-where-the-angels-lived-5/
LOCATION:Sarasota Books\, Sarasota\, FL\, United States
END:VEVENT
END:VCALENDAR